BEGIN:VCALENDAR
VERSION:2.0
PRODID:-//hacksw/handcal//NONSGML v1.0//EN
CALSCALE:GREGORIAN
BEGIN:VEVENT
LOCATION:Hudson Gym
DESCRIPTION:
DTSTART:20241130T140000Z
DTEND:20241130T210000Z
SUMMARY:Wrestling JV Invite
URL;VALUE=URI:https://www.glenbardnorthhs.org/event/wrestling-jv-invite/
DTSTAMP:20260420T203226Z
UID:69e68d5a6c9d9
END:VEVENT
END:VCALENDAR