BEGIN:VCALENDAR
VERSION:2.0
PRODID:-//hacksw/handcal//NONSGML v1.0//EN
CALSCALE:GREGORIAN
BEGIN:VEVENT
LOCATION:Weber Field
DESCRIPTION:
DTSTART:20220924T000000Z
DTEND:20220924T030000Z
SUMMARY:Varsity Football vs Batavia
URL;VALUE=URI:https://www.glenbardnorthhs.org/event/varsity-football-vs-batavia-2/
DTSTAMP:20260423T052725Z
UID:69e9adbdcc0f2
END:VEVENT
END:VCALENDAR