BEGIN:VCALENDAR
VERSION:2.0
PRODID:-//hacksw/handcal//NONSGML v1.0//EN
CALSCALE:GREGORIAN
BEGIN:VEVENT
LOCATION:Auditorium/ Theater
DESCRIPTION:
DTSTART:20260426T003000Z
DTEND:20260426T030000Z
SUMMARY:Spring Play Performance
URL;VALUE=URI:https://www.glenbardnorthhs.org/event/spring-play-performance-19/
DTSTAMP:20260425T141800Z
UID:69eccd18d37f5
END:VEVENT
END:VCALENDAR