BEGIN:VCALENDAR
VERSION:2.0
PRODID:-//hacksw/handcal//NONSGML v1.0//EN
CALSCALE:GREGORIAN
BEGIN:VEVENT
LOCATION:Auditorium/ Theater
DESCRIPTION:
DTSTART:20260424T003000Z
DTEND:20260424T030000Z
SUMMARY:Spring Play Performance
URL;VALUE=URI:https://www.glenbardnorthhs.org/event/spring-play-performance-17/
DTSTAMP:20260421T044609Z
UID:69e701110d398
END:VEVENT
END:VCALENDAR