BEGIN:VCALENDAR
VERSION:2.0
PRODID:-//hacksw/handcal//NONSGML v1.0//EN
CALSCALE:GREGORIAN
BEGIN:VEVENT
LOCATION:Hudson Gym
DESCRIPTION:
DTSTART:20260424T190000Z
DTEND:20260424T200000Z
SUMMARY:Spring Pep Assembly
URL;VALUE=URI:https://www.glenbardnorthhs.org/event/spring-pep-assembly/
DTSTAMP:20260423T065447Z
UID:69e9c237450d3
END:VEVENT
END:VCALENDAR