BEGIN:VCALENDAR
VERSION:2.0
PRODID:-//hacksw/handcal//NONSGML v1.0//EN
CALSCALE:GREGORIAN
BEGIN:VEVENT
LOCATION:Glenbard North
DESCRIPTION:
DTSTART:20211028T190000Z
DTEND:20211028T230000Z
SUMMARY:Parent / Teacher Conferences in the Evening (Students Attend School) 2 - 6 PM
URL;VALUE=URI:https://www.glenbardnorthhs.org/event/parent-teacher-conferences-in-the-evening-students-attend-school-2-6-pm-2/
DTSTAMP:20260425T200451Z
UID:69ed1e6373aea
END:VEVENT
END:VCALENDAR