BEGIN:VCALENDAR
VERSION:2.0
PRODID:-//hacksw/handcal//NONSGML v1.0//EN
CALSCALE:GREGORIAN
BEGIN:VEVENT
LOCATION:
DESCRIPTION:
DTSTART:20250331T000000Z
DTEND:20250331T000000Z
SUMMARY:NO SCHOOL - Spring Recess Begins
URL;VALUE=URI:https://www.glenbardnorthhs.org/event/no-school-spring-recess-begins-18/
DTSTAMP:20260421T001657Z
UID:69e6c1f99563a
END:VEVENT
END:VCALENDAR