BEGIN:VCALENDAR
VERSION:2.0
PRODID:-//hacksw/handcal//NONSGML v1.0//EN
CALSCALE:GREGORIAN
BEGIN:VEVENT
LOCATION:Auditorium
DESCRIPTION:
DTSTART:20220809T000000Z
DTEND:20220809T013000Z
SUMMARY:New Parent Orientation
URL;VALUE=URI:https://www.glenbardnorthhs.org/event/new-parent-orientation/
DTSTAMP:20260424T232950Z
UID:69ebfcee824ee
END:VEVENT
END:VCALENDAR