BEGIN:VCALENDAR
VERSION:2.0
PRODID:-//hacksw/handcal//NONSGML v1.0//EN
CALSCALE:GREGORIAN
BEGIN:VEVENT
LOCATION:Gym
DESCRIPTION:
DTSTART:20251004T230000Z
DTEND:20251005T020000Z
SUMMARY:Homecoming Dance
URL;VALUE=URI:https://www.glenbardnorthhs.org/event/homecoming-dance-27/
DTSTAMP:20260421T080619Z
UID:69e72ffbe1350
END:VEVENT
END:VCALENDAR