BEGIN:VCALENDAR
VERSION:2.0
PRODID:-//hacksw/handcal//NONSGML v1.0//EN
CALSCALE:GREGORIAN
BEGIN:VEVENT
LOCATION:Glenbard West
DESCRIPTION:
DTSTART:20191011T000000Z
DTEND:20191011T020000Z
SUMMARY:GPS: Documentary Film Premier: Thriving-Stress Solutions for Screenagers
URL;VALUE=URI:https://www.glenbardnorthhs.org/event/gps-documentary-film-premier-thriving-stress-solutions-for-screenagers/
DTSTAMP:20260424T052951Z
UID:69eaffcf9803a
END:VEVENT
END:VCALENDAR