BEGIN:VCALENDAR
VERSION:2.0
PRODID:-//hacksw/handcal//NONSGML v1.0//EN
CALSCALE:GREGORIAN
BEGIN:VEVENT
LOCATION:VIRTUAL
DESCRIPTION:
DTSTART:20210224T000000Z
DTEND:20210224T020000Z
SUMMARY:GPS: Community Read-"Educated: A Memoir"
URL;VALUE=URI:https://www.glenbardnorthhs.org/event/gps-community-read-educated-a-memoir/
DTSTAMP:20260421T103220Z
UID:69e7523455665
END:VEVENT
END:VCALENDAR