BEGIN:VCALENDAR
VERSION:2.0
PRODID:-//hacksw/handcal//NONSGML v1.0//EN
CALSCALE:GREGORIAN
BEGIN:VEVENT
LOCATION:Whole Building
DESCRIPTION:
DTSTART:20220805T140000Z
DTEND:20220805T170000Z
SUMMARY:Freshmen Orientation
URL;VALUE=URI:https://www.glenbardnorthhs.org/event/freshmen-orientation-3/
DTSTAMP:20260421T163235Z
UID:69e7a6a3742cb
END:VEVENT
END:VCALENDAR