BEGIN:VCALENDAR
VERSION:2.0
PRODID:-//hacksw/handcal//NONSGML v1.0//EN
CALSCALE:GREGORIAN
BEGIN:VEVENT
LOCATION:LITTLE THEATRE/AUDITORIUM
DESCRIPTION:
DTSTART:20211001T210000Z
DTEND:20211001T233000Z
SUMMARY:Fall Studio Performance
URL;VALUE=URI:https://www.glenbardnorthhs.org/event/fall-studio-performance-8/
DTSTAMP:20260421T031316Z
UID:69e6eb4c6a919
END:VEVENT
END:VCALENDAR