BEGIN:VCALENDAR
VERSION:2.0
PRODID:-//hacksw/handcal//NONSGML v1.0//EN
CALSCALE:GREGORIAN
BEGIN:VEVENT
LOCATION:Library
DESCRIPTION:
DTSTART:20210428T233000Z
DTEND:20210429T013000Z
SUMMARY:ELL Awards Night
URL;VALUE=URI:https://www.glenbardnorthhs.org/event/ell-awards-night/
DTSTAMP:20260421T075958Z
UID:69e72e7e13ce6
END:VEVENT
END:VCALENDAR