BEGIN:VCALENDAR
VERSION:2.0
PRODID:-//hacksw/handcal//NONSGML v1.0//EN
CALSCALE:GREGORIAN
BEGIN:VEVENT
LOCATION:Hudson Gym
DESCRIPTION:
DTSTART:20260425T000000Z
DTEND:20260425T020000Z
SUMMARY:Clash of the Titans
URL;VALUE=URI:https://www.glenbardnorthhs.org/event/clash-of-the-titans/
DTSTAMP:20260424T072605Z
UID:69eb1b0d2e689
END:VEVENT
END:VCALENDAR