BEGIN:VCALENDAR
VERSION:2.0
PRODID:-//hacksw/handcal//NONSGML v1.0//EN
CALSCALE:GREGORIAN
BEGIN:VEVENT
LOCATION:Hudson Gym
DESCRIPTION:
DTSTART:20260214T210000Z
DTEND:20260214T233000Z
SUMMARY:Boys Basketball vs Oswego
URL;VALUE=URI:https://www.glenbardnorthhs.org/event/boys-basketball-vs-oswego/
DTSTAMP:20260420T123009Z
UID:69e61c51af018
END:VEVENT
END:VCALENDAR