BEGIN:VCALENDAR
VERSION:2.0
PRODID:-//hacksw/handcal//NONSGML v1.0//EN
CALSCALE:GREGORIAN
BEGIN:VEVENT
LOCATION:Glenbard West
DESCRIPTION:
DTSTART:20220125T000000Z
DTEND:20220125T020000Z
SUMMARY:Board of Education Meeting
URL;VALUE=URI:https://www.glenbardnorthhs.org/event/board-of-education-meeting-102/
DTSTAMP:20260422T084442Z
UID:69e88a7a92c1d
END:VEVENT
END:VCALENDAR