BEGIN:VCALENDAR
VERSION:2.0
PRODID:-//hacksw/handcal//NONSGML v1.0//EN
CALSCALE:GREGORIAN
BEGIN:VEVENT
LOCATION:AUDITORIUM/LITTLE THEATRE/NORTH CAFETERIA
DESCRIPTION:
DTSTART:20240223T003000Z
DTEND:20240223T023000Z
SUMMARY:Band/Orchestra Concert
URL;VALUE=URI:https://www.glenbardnorthhs.org/event/band-orchestra-concert-6/
DTSTAMP:20260420T233348Z
UID:69e6b7dcb874f
END:VEVENT
END:VCALENDAR