BEGIN:VCALENDAR
VERSION:2.0
PRODID:-//hacksw/handcal//NONSGML v1.0//EN
CALSCALE:GREGORIAN
BEGIN:VEVENT
LOCATION:AUDITORIUM
DESCRIPTION:
DTSTART:20211015T003000Z
DTEND:20211015T023000Z
SUMMARY:Band/Orchestra Concert
URL;VALUE=URI:https://www.glenbardnorthhs.org/event/band-orchestra-concert-2/
DTSTAMP:20260425T125353Z
UID:69ecb9617be2e
END:VEVENT
END:VCALENDAR