BEGIN:VCALENDAR
VERSION:2.0
PRODID:-//hacksw/handcal//NONSGML v1.0//EN
CALSCALE:GREGORIAN
BEGIN:VEVENT
LOCATION:Cafeteria
DESCRIPTION:
DTSTART:20220803T130000Z
DTEND:20220803T210000Z
SUMMARY:Back-to-School Week - Freshmen & Sophomores
URL;VALUE=URI:https://www.glenbardnorthhs.org/event/back-to-school-week-freshmen-sophomores-2/
DTSTAMP:20260425T121635Z
UID:69ecb0a3f0f70
END:VEVENT
END:VCALENDAR