BEGIN:VCALENDAR
VERSION:2.0
PRODID:-//hacksw/handcal//NONSGML v1.0//EN
CALSCALE:GREGORIAN
BEGIN:VEVENT
LOCATION:Virtual
DESCRIPTION:
DTSTART:20220124T210000Z
DTEND:20220125T010000Z
SUMMARY:8th Grade Enrollment - Virtual Meetings
URL;VALUE=URI:https://www.glenbardnorthhs.org/event/8th-grade-enrollment-virtual-meetings-2/
DTSTAMP:20260420T090700Z
UID:69e5ecb434e69
END:VEVENT
END:VCALENDAR